BEGIN:VCALENDAR
PRODID:-//kirchenweb.ch gmbh//veranstaltungsausgabe v2.0//DE
VERSION:2.0
METHOD:PUBLISH
BEGIN:VEVENT
DTSTART:20260529T160000Z
DTEND:20260529T200000Z
LOCATION:Evangelisches Kirchgemeindehaus\, Kreuzlingerstrasse 47A\, 8555
  Müllheim
TRANSP:OPAQUE
SEQUENCE:0
UID:5764-veranstaltung@evang-muellheim.ch
DTSTAMP:20260402T081941Z
DESCRIPTION:Mit gemütlichem Lagerfeuer bei der Kirche\nWeitere Infos
  folgen!\n\nKontakt: Pfr. Florian Homberger\n\nWeitere Infos:
  https://www.evang-muellheim.ch/veranstaltung/5764
SUMMARY:Kirchenabend
PRIORITY:5
X-MICROSOFT-CDO-IMPORTANCE:1
CLASS:PUBLIC
END:VEVENT
END:VCALENDAR
