BEGIN:VCALENDAR
PRODID:-//kirchenweb.ch gmbh//veranstaltungsausgabe v2.0//DE
VERSION:2.0
METHOD:PUBLISH
BEGIN:VEVENT
DTSTART:20260507T173000Z
DTEND:20260507T180000Z
LOCATION:canstein-berlin.de\, \,
TRANSP:OPAQUE
SEQUENCE:0
UID:5763-veranstaltung@evang-muellheim.ch
DTSTAMP:20260331T140333Z
DESCRIPTION:Wir treffen uns zum Gebet\, einer Andacht und thematischen
  Ingame-Aktionen (Minigames\, etc) auf dem Minecraftserver
  canstein-berlin.de /bedrock.canstein-berlin.de. Die Andacht findet online
  statt und wir kommunizieren über \n- Discord\n- Simple Voice Mod\n-
  Ingame-Chat\nWeitere Informationen:
  https://www.evang-muellheim.ch/minecraft\n\nKontakt: Pfr. Florian
  Homberger\n\nWeitere Infos:
  https://www.evang-muellheim.ch/veranstaltung/5763
SUMMARY:Minecraft Online Andachten
PRIORITY:5
X-MICROSOFT-CDO-IMPORTANCE:1
CLASS:PUBLIC
END:VEVENT
END:VCALENDAR
