BEGIN:VCALENDAR
PRODID:-//kirchenweb.ch gmbh//veranstaltungsausgabe v2.0//DE
VERSION:2.0
METHOD:PUBLISH
BEGIN:VEVENT
DTSTART:20260511T160000Z
DTEND:20260511T180000Z
LOCATION:Jugendraum\, Kreuzlingerstrasse 47\, 8555 Müllheim
TRANSP:OPAQUE
SEQUENCE:0
UID:5757-veranstaltung@evang-muellheim.ch
DTSTAMP:20260416T074855Z
DESCRIPTION:Alphalive ist eine Serie von interaktiven Treffen über die
  Grundlagen des christlichen Glaubens.\nBei Alphalive zählt jede Meinung
  und Diskussionen finden in einer freundlichen und informellen Atmosphäre
  statt.\n\nKontakt: Miriam Weisser\n\nWeitere Infos:
  https://www.evang-muellheim.ch/veranstaltung/5757
SUMMARY:Youth Alpha
PRIORITY:5
X-MICROSOFT-CDO-IMPORTANCE:1
CLASS:PUBLIC
END:VEVENT
END:VCALENDAR
