BEGIN:VCALENDAR
PRODID:-//kirchenweb.ch gmbh//veranstaltungsausgabe v2.0//DE
VERSION:2.0
METHOD:PUBLISH
BEGIN:VEVENT
DTSTART:20260604T170000Z
DTEND:20260604T180000Z
LOCATION:Kirchgemeindehaus\, \,
TRANSP:OPAQUE
SEQUENCE:0
UID:5749-veranstaltung@evang-muellheim.ch
DTSTAMP:20260326T124703Z
DESCRIPTION:Wir treffen uns im Kirchgemeindehaus und schauen gemeinsam die
  Minecraft Andacht an. Wer will\, kann einen Laptop oder ein anderes
  Gerät zum Minecraft spielen mitbringen und so vor Ort online am
  Gottesdienst teilnehmen.\n\nWenn du aktiv mitspielen willst\, musst du 30
  Minuten vor dem Start der Andacht da sein\, damit wir dein Gerät
  verbinden können und du es ausprobieren kannst. Es kann sein\, dass wir
  es nicht schaffen mit deinem Gerät auf den Server zu kommen. Dann bitte
  nicht enttäuscht sein. Du kannst den Gottesdienst trotzdem im KGH
  mitmachen und auf der Leinwand verfolgen.\n\nKontakt: Pfr. Florian
  Homberger\n\nWeitere Infos:
  https://www.evang-muellheim.ch/veranstaltung/5749
SUMMARY:Minecraft Jugendgottesdienst
PRIORITY:5
X-MICROSOFT-CDO-IMPORTANCE:1
CLASS:PUBLIC
END:VEVENT
END:VCALENDAR
