BEGIN:VCALENDAR
PRODID:-//kirchenweb.ch gmbh//veranstaltungsausgabe v2.0//DE
VERSION:2.0
METHOD:PUBLISH
BEGIN:VEVENT
DTSTART:20260611T060000Z
DTEND:20260611T165900Z
LOCATION:Abfahrt: Wigoltingen Kirche um 8.00 Uhr und Müllheim Ochsen um
  08.15 Uhr\, \,
TRANSP:OPAQUE
SEQUENCE:0
UID:5746-veranstaltung@evang-muellheim.ch
DTSTAMP:20260323T113349Z
DESCRIPTION:Anmeldung:\nBis spätestens 18. Mai 2026 an Helene Nägeli
  Brügger\, Ressort Senioren\, Rosengasse 11\, 8555 Müllheim Dorf\, Tel.
  052 763 19 57 oder helene.naegeli@evang-muellheim.ch\n\nSiehe Broschüre
  mit Programm und Anmeldetalon:\n\nKontakt: blanca.appl@evang-muellheim.ch
 \n\nWeitere Infos: https://www.evang-muellheim.ch/veranstaltung/5746
SUMMARY:Ökum. Seniorenausflug "Auf den Spuren der Donau"
PRIORITY:5
X-MICROSOFT-CDO-IMPORTANCE:1
CLASS:PUBLIC
END:VEVENT
END:VCALENDAR
