BEGIN:VCALENDAR
PRODID:-//kirchenweb.ch gmbh//veranstaltungsausgabe v2.0//DE
VERSION:2.0
METHOD:PUBLISH
BEGIN:VEVENT
DTSTART:20261126T133000Z
DTEND:20261126T160000Z
LOCATION:Evangelisches Kirchgemeindehaus\, Kreuzlingerstrasse 47A\, 8555
  Müllheim
TRANSP:OPAQUE
SEQUENCE:0
UID:5709-veranstaltung@evang-muellheim.ch
DTSTAMP:20260126T110833Z
DESCRIPTION:Kontakt: Helene Nägeli Brügger\n\nWeitere Infos:
  https://www.evang-muellheim.ch/veranstaltung/5709
SUMMARY:Seniorennachmittag
PRIORITY:5
X-MICROSOFT-CDO-IMPORTANCE:1
CLASS:PUBLIC
END:VEVENT
END:VCALENDAR
