BEGIN:VCALENDAR
PRODID:-//kirchenweb.ch gmbh//veranstaltungsausgabe v2.0//DE
VERSION:2.0
METHOD:PUBLISH
BEGIN:VEVENT
DTSTART:20260607T080000Z
DTEND:20260607T090000Z
LOCATION:Evangelisches Kirchgemeindehaus\, Kreuzlingerstrasse 47A\, 8555
  Müllheim
TRANSP:OPAQUE
SEQUENCE:0
UID:5627-veranstaltung@evang-muellheim.ch
DTSTAMP:20251211T124748Z
DESCRIPTION:Kontakt: Jan Etter\n\nWeitere Infos:
  https://www.evang-muellheim.ch/veranstaltung/5627
SUMMARY:Kolibri
PRIORITY:5
X-MICROSOFT-CDO-IMPORTANCE:1
CLASS:PUBLIC
END:VEVENT
END:VCALENDAR
