BEGIN:VCALENDAR
PRODID:-//kirchenweb.ch gmbh//veranstaltungsausgabe v2.0//DE
VERSION:2.0
METHOD:PUBLISH
BEGIN:VEVENT
DTSTART:20260624T040000Z
DTEND:20260624T043000Z
LOCATION:Evangelische Kirche\, Kreuzlingerstrasse 47\, 8555 Müllheim
TRANSP:OPAQUE
SEQUENCE:0
UID:5591-veranstaltung@evang-muellheim.ch
DTSTAMP:20251201T091645Z
DESCRIPTION:Morgengebet in der Kirche. Anschliessend gibt es ein
  Zmorgenessen im Kirchgmeindehaus.\n\nKontakt: Pfr. Florian Homberger\n
 \nWeitere Infos: https://www.evang-muellheim.ch/veranstaltung/5591
SUMMARY:Morgengebet
PRIORITY:5
X-MICROSOFT-CDO-IMPORTANCE:1
CLASS:PUBLIC
END:VEVENT
END:VCALENDAR
