BEGIN:VCALENDAR
PRODID:-//kirchenweb.ch gmbh//veranstaltungsausgabe v2.0//DE
VERSION:2.0
METHOD:PUBLISH
BEGIN:VEVENT
DTSTART:20260509T113000Z
DTEND:20260509T153000Z
LOCATION:Jugendraum unterhalb des Kirchgemeindehauses\, \,
TRANSP:OPAQUE
SEQUENCE:0
UID:5563-veranstaltung@evang-muellheim.ch
DTSTAMP:20260212T064743Z
DESCRIPTION:Regionaler Ameislitag\nEin besonderes Event im nächsten
  Semester ist der regionale Ameisli Nachmittag (1.-3. Klasse). Zusammen
  mit anderen Jungscharen treffen wir uns am 09.05.2026 und erleben einen
  abwechslungsreichen Ameislitag. Wir treffen uns daher alle (Ameisli und
  Jungschi Kinder) um 13:30 Uhr beim Jugendraum und beenden die Jungschar
  auch eine halbe Stunde später wie gewohnt.\n\nKontakt:
  miriam.weisser@evang-muellheim.ch\n\nWeitere Infos:
  https://www.evang-muellheim.ch/veranstaltung/5563
SUMMARY:Ameislitag und Jungschar
PRIORITY:5
X-MICROSOFT-CDO-IMPORTANCE:1
CLASS:PUBLIC
END:VEVENT
END:VCALENDAR
