BEGIN:VCALENDAR
PRODID:-//kirchenweb.ch gmbh//veranstaltungsausgabe v2.0//DE
VERSION:2.0
METHOD:PUBLISH
BEGIN:VEVENT
DTSTART:20260423T180000Z
DTEND:20260423T193000Z
LOCATION:Evangelisches Kirchgemeindehaus\, Kreuzlingerstrasse 47A\, 8555
  Müllheim
TRANSP:OPAQUE
SEQUENCE:0
UID:5550-veranstaltung@evang-muellheim.ch
DTSTAMP:20251127T091141Z
DESCRIPTION:Kontakt: barbara.riebli@hotmail.com\n\nWeitere Infos:
  https://www.evang-muellheim.ch/veranstaltung/5550
SUMMARY:Kirchgemeindeversammlung - Rechnung 2025
PRIORITY:5
X-MICROSOFT-CDO-IMPORTANCE:1
CLASS:PUBLIC
END:VEVENT
END:VCALENDAR
