BEGIN:VCALENDAR
PRODID:-//kirchenweb.ch gmbh//veranstaltungsausgabe v2.0//DE
VERSION:2.0
METHOD:PUBLISH
BEGIN:VEVENT
DTSTART:20261128T161500Z
DTEND:20261128T164500Z
LOCATION:Evangelische Kirche Müllheim\, Kreuzlingerstrasse 47\, 8555
  Müllheim
TRANSP:OPAQUE
SEQUENCE:0
UID:5537-veranstaltung@evang-muellheim.ch
DTSTAMP:20260302T094345Z
DESCRIPTION:Weitere Informationen: fiire-mit-de-chliine\n\nKontakt: Selina
  Pfäffli\, Tel. 078 672 97 33 und \nKathrin Tischhauser\, Tel. 079 787 37
  26\n\n\nWeitere Infos: https://www.evang-muellheim.ch/veranstaltung/5537
SUMMARY:Fiire mit de Chliine
PRIORITY:5
X-MICROSOFT-CDO-IMPORTANCE:1
CLASS:PUBLIC
END:VEVENT
END:VCALENDAR
