BEGIN:VCALENDAR
PRODID:-//kirchenweb.ch gmbh//veranstaltungsausgabe v2.0//DE
VERSION:2.0
METHOD:PUBLISH
BEGIN:VEVENT
DTSTART:20260803T070000Z
DTEND:20260803T090000Z
LOCATION:Aufenthaltsraum\, Höfli 16a\, 8555 Müllheim\, \,
TRANSP:OPAQUE
SEQUENCE:0
UID:5511-veranstaltung@evang-muellheim.ch
DTSTAMP:20251106T114155Z
DESCRIPTION:Weitere Informationen: eifach-do-sii\n\nKontakt: Margreth
  Binder\nSusanne Schoch\n\nWeitere Infos:
  https://www.evang-muellheim.ch/veranstaltung/5511
SUMMARY:Eifach do si
PRIORITY:5
X-MICROSOFT-CDO-IMPORTANCE:1
CLASS:PUBLIC
END:VEVENT
END:VCALENDAR
