BEGIN:VCALENDAR
PRODID:-//kirchenweb.ch gmbh//veranstaltungsausgabe v2.0//DE
VERSION:2.0
METHOD:PUBLISH
BEGIN:VEVENT
DTSTART:20261008T160000Z
DTEND:20261008T164500Z
LOCATION:Evangelische Kirche Müllheim\, Kreuzlingerstrasse 47\, 8555
  Müllheim
TRANSP:OPAQUE
SEQUENCE:0
UID:5493-veranstaltung@evang-muellheim.ch
DTSTAMP:20251027T115034Z
DESCRIPTION:Einüben in das kontemplative Gebet der Stille mit
  Körpergebet\, Sitzen in der Stille und achtsames Gehen.\n\nKontakt:
  Marianne Hug und Ursula Nuzzo\n\nWeitere Infos:
  https://www.evang-muellheim.ch/veranstaltung/5493
SUMMARY:Kontemplatives Abendgebet
PRIORITY:5
X-MICROSOFT-CDO-IMPORTANCE:1
CLASS:PUBLIC
END:VEVENT
END:VCALENDAR
