BEGIN:VCALENDAR
PRODID:-//kirchenweb.ch gmbh//veranstaltungsausgabe v2.0//DE
VERSION:2.0
METHOD:PUBLISH
BEGIN:VEVENT
DTSTART:20260702T153000Z
DTEND:20260702T155000Z
LOCATION:Evangelische Kirche Müllheim\, Kreuzlingerstrasse 47\, 8555
  Müllheim
TRANSP:OPAQUE
SEQUENCE:0
UID:5480-veranstaltung@evang-muellheim.ch
DTSTAMP:20251027T113922Z
DESCRIPTION:Durch Gesang\, Gebet und den Kreistanz des Weltgebetstages
  mobilisieren wir Kräfte\, um den Frieden in uns und in der Welt zu
  stärken.\nJede und jeder ist herzlich eingeladen!\n\nKontakt: Marianne
  Hug und Ursula Nuzzo\n\nWeitere Infos:
  https://www.evang-muellheim.ch/veranstaltung/5480
SUMMARY:Friedenstanz
PRIORITY:5
X-MICROSOFT-CDO-IMPORTANCE:1
CLASS:PUBLIC
END:VEVENT
END:VCALENDAR
