BEGIN:VCALENDAR
PRODID:-//kirchenweb.ch gmbh//veranstaltungsausgabe v2.0//DE
VERSION:2.0
METHOD:PUBLISH
BEGIN:VEVENT
DTSTART:20261020T170000Z
DTEND:20261020T183000Z
LOCATION:Evangelische Kirche Müllheim\, Kreuzlingerstrasse 47\, 8555
  Müllheim
TRANSP:OPAQUE
SEQUENCE:0
UID:5460-veranstaltung@evang-muellheim.ch
DTSTAMP:20251127T085701Z
DESCRIPTION:Kontakt: Marianne Hug\n\nWeitere Infos:
  https://www.evang-muellheim.ch/veranstaltung/5460
SUMMARY:Glauben im Alltag
PRIORITY:5
X-MICROSOFT-CDO-IMPORTANCE:1
CLASS:PUBLIC
END:VEVENT
END:VCALENDAR
