BEGIN:VCALENDAR
PRODID:-//kirchenweb.ch gmbh//veranstaltungsausgabe v2.0//DE
VERSION:2.0
METHOD:PUBLISH
BEGIN:VEVENT
DTSTART:20261213T090000Z
DTEND:20261213T100000Z
LOCATION:Evangelische Kirche\, Kreuzlingerstrasse 47\, 8555 Müllheim
TRANSP:OPAQUE
SEQUENCE:0
UID:5416-veranstaltung@evang-muellheim.ch
DTSTAMP:20260126T100043Z
DESCRIPTION:Kontakt: Pfr. Florian Homberger\n\nWeitere Infos:
  https://www.evang-muellheim.ch/veranstaltung/5416
SUMMARY:Gottesdienst am 3. Advent (evtl. Kolibriweihnachten)
PRIORITY:5
X-MICROSOFT-CDO-IMPORTANCE:1
CLASS:PUBLIC
END:VEVENT
END:VCALENDAR
