BEGIN:VCALENDAR
PRODID:-//kirchenweb.ch gmbh//veranstaltungsausgabe v2.0//DE
VERSION:2.0
METHOD:PUBLISH
BEGIN:VEVENT
DTSTART:20261129T160000Z
DTEND:20261129T170000Z
LOCATION:Evangelische Kirche\, Kreuzlingerstrasse 47\, 8555 Müllheim
TRANSP:OPAQUE
SEQUENCE:0
UID:5414-veranstaltung@evang-muellheim.ch
DTSTAMP:20251201T122600Z
DESCRIPTION:Kontakt: Pfr. Florian Homberger\n\nWeitere Infos:
  https://www.evang-muellheim.ch/veranstaltung/5414
SUMMARY:Gottesdienst am 1. Advent mit dem Singkreis
PRIORITY:5
X-MICROSOFT-CDO-IMPORTANCE:1
CLASS:PUBLIC
END:VEVENT
END:VCALENDAR
