BEGIN:VCALENDAR
PRODID:-//kirchenweb.ch gmbh//veranstaltungsausgabe v2.0//DE
VERSION:2.0
METHOD:PUBLISH
BEGIN:VEVENT
DTSTART:20261018T080000Z
DTEND:20261018T090000Z
LOCATION:Evangelische Kirche\, Kreuzlingerstrasse 47\, 8555 Müllheim
TRANSP:OPAQUE
SEQUENCE:0
UID:5408-veranstaltung@evang-muellheim.ch
DTSTAMP:20251201T121758Z
DESCRIPTION:Kontakt: Diakonin Miriam Weisser\n\n\nWeitere Infos:
  https://www.evang-muellheim.ch/veranstaltung/5408
SUMMARY:Gottesdienst mit dem Singkreis
PRIORITY:5
X-MICROSOFT-CDO-IMPORTANCE:1
CLASS:PUBLIC
END:VEVENT
END:VCALENDAR
