BEGIN:VCALENDAR
PRODID:-//kirchenweb.ch gmbh//veranstaltungsausgabe v2.0//DE
VERSION:2.0
METHOD:PUBLISH
BEGIN:VEVENT
DTSTART:20260524T080000Z
DTEND:20260524T090000Z
LOCATION:Evangelische Kirche\, Hauptstrasse\, 8558 Raperswilen
TRANSP:OPAQUE
SEQUENCE:0
UID:5387-veranstaltung@evang-muellheim.ch
DTSTAMP:20260401T143906Z
DESCRIPTION:Gemeinsam mit der Kirchgemeinde Wigoltingen-Raperswilen feiern
  wir Gottesdienst mit Abendmahl in der Kirche Raperswilen.  \n\nKontakt:
  Pfr. Florian Homberger\n\nWeitere Infos:
  https://www.evang-muellheim.ch/veranstaltung/5387
SUMMARY:Gottesdienst an Pfingsten in der Kirche Raperswilen
PRIORITY:5
X-MICROSOFT-CDO-IMPORTANCE:1
CLASS:PUBLIC
END:VEVENT
END:VCALENDAR
