BEGIN:VCALENDAR
PRODID:-//kirchenweb.ch gmbh//veranstaltungsausgabe v2.0//DE
VERSION:2.0
METHOD:PUBLISH
BEGIN:VEVENT
DTSTART:20260506T150000Z
DTEND:20260506T180000Z
LOCATION:Evangelisches Kirchgemeindehaus\, Kreuzlingerstrasse 47A\, 8555
  Müllheim
TRANSP:OPAQUE
SEQUENCE:0
UID:5363-veranstaltung@evang-muellheim.ch
DTSTAMP:20251208T120503Z
DESCRIPTION:Jugendgottesdienst mit gemeinsamen Znacht und
  abwechslungsreichem Programm.\n\n17:00 Uhr Gottesdienst für die 5./6.
  Klasse\n18.00 Uhr Znachtessen für alle\n19:00 Uhr Gottesdienst für die
  Oberstufe +\n\n\nWichtig: Anmeldung erforderlich!\nDamit wir genug Essen
  und Platz für alle haben\, melde dich bitte vorher an.\n\nKontakt: Pfr.
  Florian Homberger\n\nWeitere Infos:
  https://www.evang-muellheim.ch/veranstaltung/5363
SUMMARY:MIDWEEK Jugendgottesdienst
PRIORITY:5
X-MICROSOFT-CDO-IMPORTANCE:1
CLASS:PUBLIC
END:VEVENT
END:VCALENDAR
